Name | Last modified | Size | Description | |
---|---|---|---|---|
Parent Directory | - | |||
install-summary.dcf | 17-Oct-2023 00:37 | 290 | ||
install-out.txt | 17-Oct-2023 00:37 | 1.0K | ||
checksrc-summary.dcf | 17-Oct-2023 00:37 | 490 | ||
checksrc-out.txt | 17-Oct-2023 00:37 | 3.4K | ||
buildsrc-summary.dcf | 17-Oct-2023 00:37 | 455 | ||
buildsrc-out.txt | 17-Oct-2023 00:37 | 896 | ||
buildbin-summary.dcf | 17-Oct-2023 00:37 | 591 | ||
buildbin-out.txt | 17-Oct-2023 00:37 | 1.2K | ||