Name | Last modified | Size | Description | |
---|---|---|---|---|
Parent Directory | - | |||
buildbin-summary.dcf | 17-Oct-2023 00:37 | 566 | ||
buildbin-out.txt | 17-Oct-2023 00:37 | 1.2K | ||
checksrc-summary.dcf | 17-Oct-2023 00:37 | 467 | ||
checksrc-out.txt | 17-Oct-2023 00:37 | 3.2K | ||
buildsrc-summary.dcf | 17-Oct-2023 00:37 | 445 | ||
buildsrc-out.txt | 17-Oct-2023 00:37 | 880 | ||
install-summary.dcf | 17-Oct-2023 00:37 | 281 | ||
install-out.txt | 17-Oct-2023 00:37 | 1.0K | ||