Index of /checkResults/3.17/bioc-LATEST/epihet/raw-results/palomino3
Name
Last modified
Size
Description
Parent Directory
-
install-summary.dcf
17-Oct-2023 00:36
268
install-out.txt
17-Oct-2023 00:36
623
buildsrc-summary.dcf
17-Oct-2023 00:36
364
buildsrc-out.txt
17-Oct-2023 00:36
926