Name | Last modified | Size | Description | |
---|---|---|---|---|
Parent Directory | - | |||
install-summary.dcf | 17-Oct-2023 00:35 | 287 | ||
install-out.txt | 17-Oct-2023 00:35 | 150K | ||
checksrc-summary.dcf | 17-Oct-2023 00:35 | 475 | ||
checksrc-out.txt | 17-Oct-2023 00:35 | 5.7K | ||
buildsrc-summary.dcf | 17-Oct-2023 00:35 | 458 | ||
buildsrc-out.txt | 17-Oct-2023 00:35 | 954 | ||