Name | Last modified | Size | Description | |
---|---|---|---|---|
Parent Directory | - | |||
buildbin-out.txt | 17-Oct-2023 00:37 | 299K | ||
buildbin-summary.dcf | 17-Oct-2023 00:37 | 613 | ||
buildsrc-out.txt | 17-Oct-2023 00:37 | 964 | ||
buildsrc-summary.dcf | 17-Oct-2023 00:37 | 469 | ||
checksrc-out.txt | 17-Oct-2023 00:37 | 4.9K | ||
checksrc-summary.dcf | 17-Oct-2023 00:37 | 505 | ||
install-out.txt | 17-Oct-2023 00:37 | 295K | ||
install-summary.dcf | 17-Oct-2023 00:37 | 298 | ||