Name | Last modified | Size | Description | |
---|---|---|---|---|
Parent Directory | - | |||
buildbin-out.txt | 17-Oct-2023 00:36 | 1.9K | ||
buildbin-summary.dcf | 17-Oct-2023 00:36 | 486 | ||
buildsrc-out.txt | 17-Oct-2023 00:36 | 887 | ||
buildsrc-summary.dcf | 17-Oct-2023 00:36 | 434 | ||
checksrc-out.txt | 17-Oct-2023 00:36 | 4.0K | ||
checksrc-summary.dcf | 17-Oct-2023 00:36 | 428 | ||
install-out.txt | 17-Oct-2023 00:36 | 1.8K | ||
install-summary.dcf | 17-Oct-2023 00:36 | 259 | ||