Name | Last modified | Size | Description | |
---|---|---|---|---|
Parent Directory | - | |||
checksrc-out.txt | 17-Oct-2023 00:37 | 3.8K | ||
buildbin-out.txt | 17-Oct-2023 00:37 | 1.3K | ||
install-out.txt | 17-Oct-2023 00:37 | 1.0K | ||
buildsrc-out.txt | 17-Oct-2023 00:37 | 907 | ||
buildbin-summary.dcf | 17-Oct-2023 00:37 | 617 | ||
checksrc-summary.dcf | 17-Oct-2023 00:37 | 502 | ||
buildsrc-summary.dcf | 17-Oct-2023 00:37 | 471 | ||
install-summary.dcf | 17-Oct-2023 00:37 | 299 | ||