Name | Last modified | Size | Description | |
---|---|---|---|---|
Parent Directory | - | |||
buildbin-out.txt | 17-Oct-2023 00:36 | 2.6K | ||
buildbin-summary.dcf | 17-Oct-2023 00:36 | 514 | ||
buildsrc-out.txt | 17-Oct-2023 00:36 | 1.0K | ||
buildsrc-summary.dcf | 17-Oct-2023 00:36 | 453 | ||
checksrc-out.txt | 17-Oct-2023 00:36 | 4.6K | ||
checksrc-summary.dcf | 17-Oct-2023 00:36 | 447 | ||
install-out.txt | 17-Oct-2023 00:36 | 2.5K | ||
install-summary.dcf | 17-Oct-2023 00:36 | 268 | ||