Name | Last modified | Size | Description | |
---|---|---|---|---|
Parent Directory | - | |||
buildbin-out.txt | 17-Oct-2023 00:36 | 9.7K | ||
buildbin-summary.dcf | 17-Oct-2023 00:36 | 530 | ||
buildsrc-out.txt | 17-Oct-2023 00:36 | 886 | ||
buildsrc-summary.dcf | 17-Oct-2023 00:36 | 427 | ||
checksrc-out.txt | 17-Oct-2023 00:36 | 4.1K | ||
checksrc-summary.dcf | 17-Oct-2023 00:36 | 444 | ||
install-out.txt | 17-Oct-2023 00:36 | 6.2K | ||
install-summary.dcf | 17-Oct-2023 00:36 | 269 | ||