Name | Last modified | Size | Description | |
---|---|---|---|---|
Parent Directory | - | |||
buildbin-out.txt | 17-Oct-2023 00:36 | 4.7K | ||
buildbin-summary.dcf | 17-Oct-2023 00:36 | 530 | ||
buildsrc-out.txt | 17-Oct-2023 00:36 | 909 | ||
buildsrc-summary.dcf | 17-Oct-2023 00:36 | 427 | ||
checksrc-out.txt | 17-Oct-2023 00:36 | 9.9K | ||
checksrc-summary.dcf | 17-Oct-2023 00:36 | 450 | ||
install-out.txt | 17-Oct-2023 00:36 | 2.5K | ||
install-summary.dcf | 17-Oct-2023 00:36 | 270 | ||