Name | Last modified | Size | Description | |
---|---|---|---|---|
Parent Directory | - | |||
buildbin-out.txt | 11-Jan-2023 01:07 | 1.0K | ||
buildbin-summary.dcf | 11-Jan-2023 01:07 | 505 | ||
buildsrc-out.txt | 17-Oct-2023 00:36 | 11K | ||
buildsrc-summary.dcf | 17-Oct-2023 00:36 | 377 | ||
checksrc-out.txt | 11-Jan-2023 01:07 | 5.7K | ||
checksrc-summary.dcf | 11-Jan-2023 01:07 | 445 | ||
install-out.txt | 17-Oct-2023 00:36 | 957 | ||
install-summary.dcf | 17-Oct-2023 00:36 | 266 | ||