Name | Last modified | Size | Description | |
---|---|---|---|---|
Parent Directory | - | |||
install-out.txt | 17-Oct-2023 00:36 | 2.3M | ||
install-summary.dcf | 17-Oct-2023 00:36 | 269 | ||
buildsrc-out.txt | 17-Oct-2023 00:36 | 1.1K | ||
buildsrc-summary.dcf | 17-Oct-2023 00:36 | 453 | ||
checksrc-out.txt | 17-Oct-2023 00:36 | 5.5K | ||
checksrc-summary.dcf | 17-Oct-2023 00:36 | 452 | ||
buildbin-summary.dcf | 17-Oct-2023 00:36 | 516 | ||
buildbin-out.txt | 17-Oct-2023 00:36 | 2.3M | ||