Name | Last modified | Size | Description | |
---|---|---|---|---|
Parent Directory | - | |||
install-summary.dcf | 17-Oct-2023 00:35 | 257 | ||
checksrc-summary.dcf | 17-Oct-2023 00:35 | 411 | ||
buildsrc-summary.dcf | 17-Oct-2023 00:35 | 415 | ||
buildsrc-out.txt | 17-Oct-2023 00:35 | 868 | ||
install-out.txt | 17-Oct-2023 00:35 | 960 | ||
checksrc-out.txt | 17-Oct-2023 00:35 | 3.7K | ||