Name | Last modified | Size | Description | |
---|---|---|---|---|
Parent Directory | - | |||
install-summary.dcf | 17-Oct-2023 00:36 | 273 | ||
checksrc-summary.dcf | 17-Oct-2023 00:36 | 457 | ||
buildsrc-summary.dcf | 17-Oct-2023 00:36 | 462 | ||
buildbin-summary.dcf | 17-Oct-2023 00:36 | 529 | ||
buildsrc-out.txt | 17-Oct-2023 00:36 | 945 | ||
install-out.txt | 17-Oct-2023 00:36 | 1.9K | ||
buildbin-out.txt | 17-Oct-2023 00:36 | 2.0K | ||
checksrc-out.txt | 17-Oct-2023 00:36 | 4.1K | ||