Name | Last modified | Size | Description | |
---|---|---|---|---|
Parent Directory | - | |||
install-summary.dcf | 17-Oct-2023 00:36 | 275 | ||
buildsrc-summary.dcf | 17-Oct-2023 00:36 | 435 | ||
checksrc-summary.dcf | 17-Oct-2023 00:36 | 454 | ||
buildbin-summary.dcf | 17-Oct-2023 00:36 | 546 | ||
buildsrc-out.txt | 17-Oct-2023 00:36 | 920 | ||
install-out.txt | 17-Oct-2023 00:36 | 2.2K | ||
checksrc-out.txt | 17-Oct-2023 00:36 | 4.2K | ||
buildbin-out.txt | 17-Oct-2023 00:36 | 4.3K | ||