Name | Last modified | Size | Description | |
---|---|---|---|---|
Parent Directory | - | |||
install-summary.dcf | 17-Oct-2023 00:35 | 273 | ||
buildsrc-summary.dcf | 17-Oct-2023 00:35 | 438 | ||
checksrc-summary.dcf | 17-Oct-2023 00:35 | 446 | ||
buildsrc-out.txt | 17-Oct-2023 00:35 | 874 | ||
install-out.txt | 17-Oct-2023 00:35 | 1.0K | ||
checksrc-out.txt | 17-Oct-2023 00:35 | 4.2K | ||