![]() | Name | Last modified | Size | Description |
---|---|---|---|---|
![]() | Parent Directory | - | ||
![]() | buildsrc-out.txt | 17-Oct-2023 00:35 | 868 | |
![]() | buildsrc-summary.dcf | 17-Oct-2023 00:35 | 415 | |
![]() | checksrc-out.txt | 17-Oct-2023 00:35 | 3.7K | |
![]() | checksrc-summary.dcf | 17-Oct-2023 00:35 | 411 | |
![]() | install-out.txt | 17-Oct-2023 00:35 | 1.0K | |
![]() | install-summary.dcf | 17-Oct-2023 00:35 | 257 | |