Name | Last modified | Size | Description | |
---|---|---|---|---|
Parent Directory | - | |||
install-summary.dcf | 17-Oct-2023 00:36 | 264 | ||
install-out.txt | 17-Oct-2023 00:36 | 1.0K | ||
checksrc-summary.dcf | 17-Oct-2023 00:36 | 439 | ||
checksrc-out.txt | 17-Oct-2023 00:36 | 3.4K | ||
buildsrc-summary.dcf | 17-Oct-2023 00:36 | 444 | ||
buildsrc-out.txt | 17-Oct-2023 00:36 | 889 | ||
buildbin-summary.dcf | 17-Oct-2023 00:36 | 501 | ||
buildbin-out.txt | 17-Oct-2023 00:36 | 1.1K | ||