![]() | Name | Last modified | Size | Description |
---|---|---|---|---|
![]() | Parent Directory | - | ||
![]() | buildbin-out.txt | 28-Sep-2023 00:37 | 1.2K | |
![]() | buildbin-summary.dcf | 28-Sep-2023 00:37 | 578 | |
![]() | buildsrc-out.txt | 28-Sep-2023 00:37 | 2.4K | |
![]() | buildsrc-summary.dcf | 28-Sep-2023 00:37 | 452 | |
![]() | checksrc-out.txt | 28-Sep-2023 00:37 | 3.3K | |
![]() | checksrc-summary.dcf | 28-Sep-2023 00:37 | 476 | |
![]() | install-out.txt | 28-Sep-2023 00:37 | 1.0K | |
![]() | install-summary.dcf | 28-Sep-2023 00:37 | 286 | |