Name | Last modified | Size | Description | |
---|---|---|---|---|
Parent Directory | - | |||
checksrc-out.txt | 17-Oct-2023 00:35 | 4.7K | ||
checksrc-summary.dcf | 17-Oct-2023 00:35 | 424 | ||
buildsrc-summary.dcf | 17-Oct-2023 00:35 | 425 | ||
buildsrc-out.txt | 17-Oct-2023 00:35 | 880 | ||
install-summary.dcf | 17-Oct-2023 00:35 | 264 | ||
install-out.txt | 17-Oct-2023 00:35 | 1.0K | ||