Name | Last modified | Size | Description | |
---|---|---|---|---|
Parent Directory | - | |||
install-summary.dcf | 17-Oct-2023 00:36 | 267 | ||
install-out.txt | 17-Oct-2023 00:36 | 1.0K | ||
checksrc-summary.dcf | 17-Oct-2023 00:36 | 442 | ||
checksrc-out.txt | 17-Oct-2023 00:36 | 4.0K | ||
buildsrc-summary.dcf | 17-Oct-2023 00:36 | 423 | ||
buildsrc-out.txt | 17-Oct-2023 00:36 | 874 | ||
buildbin-summary.dcf | 17-Oct-2023 00:36 | 522 | ||
buildbin-out.txt | 17-Oct-2023 00:36 | 1.1K | ||