Name | Last modified | Size | Description | |
---|---|---|---|---|
Parent Directory | - | |||
buildbin-out.txt | 17-Oct-2023 00:36 | 1.4K | ||
buildbin-summary.dcf | 17-Oct-2023 00:36 | 555 | ||
buildsrc-out.txt | 17-Oct-2023 00:36 | 832 | ||
buildsrc-summary.dcf | 17-Oct-2023 00:36 | 440 | ||
checksrc-out.txt | 17-Oct-2023 00:36 | 3.8K | ||
checksrc-summary.dcf | 17-Oct-2023 00:36 | 466 | ||
install-out.txt | 17-Oct-2023 00:36 | 1.2K | ||
install-summary.dcf | 17-Oct-2023 00:36 | 277 | ||