Name | Last modified | Size | Description | |
---|---|---|---|---|
Parent Directory | - | |||
buildbin-out.txt | 17-Oct-2023 00:36 | 1.4K | ||
buildbin-summary.dcf | 17-Oct-2023 00:36 | 527 | ||
buildsrc-out.txt | 17-Oct-2023 00:36 | 849 | ||
buildsrc-summary.dcf | 17-Oct-2023 00:36 | 460 | ||
checksrc-out.txt | 17-Oct-2023 00:36 | 3.6K | ||
checksrc-summary.dcf | 17-Oct-2023 00:36 | 461 | ||
install-out.txt | 17-Oct-2023 00:36 | 1.3K | ||
install-summary.dcf | 17-Oct-2023 00:36 | 272 | ||