Name | Last modified | Size | Description | |
---|---|---|---|---|
Parent Directory | - | |||
buildbin-out.txt | 17-Oct-2023 00:36 | 1.2K | ||
buildbin-summary.dcf | 17-Oct-2023 00:36 | 549 | ||
buildsrc-out.txt | 17-Oct-2023 00:36 | 890 | ||
buildsrc-summary.dcf | 17-Oct-2023 00:36 | 435 | ||
checksrc-out.txt | 17-Oct-2023 00:36 | 3.3K | ||
checksrc-summary.dcf | 17-Oct-2023 00:36 | 458 | ||
install-out.txt | 17-Oct-2023 00:36 | 1.0K | ||
install-summary.dcf | 17-Oct-2023 00:36 | 276 | ||