Name | Last modified | Size | Description | |
---|---|---|---|---|
Parent Directory | - | |||
buildbin-out.txt | 07-Oct-2023 00:37 | 1.2K | ||
buildbin-summary.dcf | 07-Oct-2023 00:37 | 542 | ||
buildsrc-out.txt | 17-Oct-2023 00:36 | 1.1K | ||
buildsrc-summary.dcf | 17-Oct-2023 00:36 | 347 | ||
checksrc-out.txt | 07-Oct-2023 00:37 | 3.2K | ||
checksrc-summary.dcf | 07-Oct-2023 00:37 | 452 | ||
install-out.txt | 17-Oct-2023 00:36 | 1.0K | ||
install-summary.dcf | 17-Oct-2023 00:36 | 273 | ||