Name | Last modified | Size | Description | |
---|---|---|---|---|
Parent Directory | - | |||
buildbin-out.txt | 17-Oct-2023 00:36 | 1.0K | ||
buildbin-summary.dcf | 17-Oct-2023 00:36 | 545 | ||
buildsrc-out.txt | 17-Oct-2023 00:36 | 867 | ||
buildsrc-summary.dcf | 17-Oct-2023 00:36 | 434 | ||
checksrc-out.txt | 17-Oct-2023 00:36 | 4.9K | ||
checksrc-summary.dcf | 17-Oct-2023 00:36 | 460 | ||
install-out.txt | 17-Oct-2023 00:36 | 856 | ||
install-summary.dcf | 17-Oct-2023 00:36 | 274 | ||