Index of /checkResults/3.17/bioc-LATEST/casper/raw-results
Name
Last modified
Size
Description
Parent Directory
-
info.dcf
06-Jun-2023 00:05
272
merida1/
06-Jun-2023 00:05
-
nebbiolo1/
06-Jun-2023 00:03
-
palomino3/
06-Jun-2023 00:04
-