Name | Last modified | Size | Description | |
---|---|---|---|---|
Parent Directory | - | |||
install-summary.dcf | 17-Oct-2023 00:36 | 277 | ||
install-out.txt | 17-Oct-2023 00:36 | 4.8K | ||
buildsrc-out.txt | 17-Oct-2023 00:36 | 925 | ||
buildsrc-summary.dcf | 17-Oct-2023 00:36 | 439 | ||
checksrc-out.txt | 17-Oct-2023 00:36 | 8.8K | ||
checksrc-summary.dcf | 17-Oct-2023 00:36 | 466 | ||
buildbin-out.txt | 17-Oct-2023 00:36 | 6.8K | ||
buildbin-summary.dcf | 17-Oct-2023 00:36 | 554 | ||