![]() | Name | Last modified | Size | Description |
---|---|---|---|---|
![]() | Parent Directory | - | ||
![]() | buildbin-out.txt | 05-Oct-2023 00:36 | 1.1K | |
![]() | buildbin-summary.dcf | 05-Oct-2023 00:36 | 557 | |
![]() | buildsrc-out.txt | 05-Oct-2023 00:36 | 874 | |
![]() | buildsrc-summary.dcf | 05-Oct-2023 00:36 | 481 | |
![]() | checksrc-out.txt | 05-Oct-2023 00:36 | 3.3K | |
![]() | checksrc-summary.dcf | 05-Oct-2023 00:36 | 475 | |
![]() | install-out.txt | 05-Oct-2023 00:36 | 1.0K | |
![]() | install-summary.dcf | 05-Oct-2023 00:36 | 282 | |