Name | Last modified | Size | Description | |
---|---|---|---|---|
Parent Directory | - | |||
checksrc-out.txt | 03-Oct-2023 00:37 | 3.4K | ||
buildsrc-out.txt | 17-Oct-2023 00:36 | 1.4K | ||
buildbin-out.txt | 03-Oct-2023 00:37 | 1.2K | ||
install-out.txt | 17-Oct-2023 00:36 | 1.0K | ||
buildbin-summary.dcf | 03-Oct-2023 00:37 | 573 | ||
checksrc-summary.dcf | 03-Oct-2023 00:37 | 472 | ||
buildsrc-summary.dcf | 17-Oct-2023 00:36 | 358 | ||
install-summary.dcf | 17-Oct-2023 00:36 | 284 | ||