Name | Last modified | Size | Description | |
---|---|---|---|---|
Parent Directory | - | |||
install-out.txt | 17-Oct-2023 00:35 | 2.3K | ||
install-summary.dcf | 17-Oct-2023 00:35 | 264 | ||
buildsrc-out.txt | 17-Oct-2023 00:35 | 921 | ||
buildsrc-summary.dcf | 17-Oct-2023 00:35 | 444 | ||
checksrc-summary.dcf | 17-Oct-2023 00:35 | 439 | ||
checksrc-out.txt | 17-Oct-2023 00:35 | 4.8K | ||
buildbin-out.txt | 17-Oct-2023 00:35 | 2.4K | ||
buildbin-summary.dcf | 17-Oct-2023 00:35 | 502 | ||