Name | Last modified | Size | Description | |
---|---|---|---|---|
Parent Directory | - | |||
checksrc-out.txt | 17-Oct-2023 00:35 | 4.4K | ||
checksrc-summary.dcf | 17-Oct-2023 00:35 | 406 | ||
buildsrc-summary.dcf | 17-Oct-2023 00:35 | 412 | ||
buildsrc-out.txt | 17-Oct-2023 00:35 | 891 | ||
install-summary.dcf | 17-Oct-2023 00:35 | 255 | ||
install-out.txt | 17-Oct-2023 00:35 | 2.1K | ||