Name | Last modified | Size | Description | |
---|---|---|---|---|
Parent Directory | - | |||
buildbin-out.txt | 17-Oct-2023 00:36 | 4.7K | ||
buildbin-summary.dcf | 17-Oct-2023 00:36 | 519 | ||
buildsrc-out.txt | 17-Oct-2023 00:36 | 901 | ||
buildsrc-summary.dcf | 17-Oct-2023 00:36 | 422 | ||
checksrc-out.txt | 17-Oct-2023 00:36 | 4.5K | ||
checksrc-summary.dcf | 17-Oct-2023 00:36 | 437 | ||
install-out.txt | 17-Oct-2023 00:36 | 2.7K | ||
install-summary.dcf | 17-Oct-2023 00:36 | 266 | ||