Name | Last modified | Size | Description | |
---|---|---|---|---|
Parent Directory | - | |||
buildbin-out.txt | 17-Oct-2023 00:35 | 2.0K | ||
buildbin-summary.dcf | 17-Oct-2023 00:35 | 521 | ||
buildsrc-out.txt | 17-Oct-2023 00:35 | 936 | ||
buildsrc-summary.dcf | 17-Oct-2023 00:35 | 454 | ||
checksrc-out.txt | 17-Oct-2023 00:35 | 4.5K | ||
checksrc-summary.dcf | 17-Oct-2023 00:35 | 451 | ||
install-out.txt | 17-Oct-2023 00:35 | 1.9K | ||
install-summary.dcf | 17-Oct-2023 00:35 | 270 | ||