Name | Last modified | Size | Description | |
---|---|---|---|---|
Parent Directory | - | |||
buildbin-out.txt | 17-Oct-2023 00:35 | 1.4K | ||
buildbin-summary.dcf | 17-Oct-2023 00:35 | 533 | ||
checksrc-summary.dcf | 17-Oct-2023 00:35 | 465 | ||
checksrc-out.txt | 17-Oct-2023 00:35 | 4.3K | ||
buildsrc-summary.dcf | 17-Oct-2023 00:35 | 465 | ||
buildsrc-out.txt | 17-Oct-2023 00:35 | 914 | ||
install-summary.dcf | 17-Oct-2023 00:35 | 274 | ||
install-out.txt | 17-Oct-2023 00:35 | 1.3K | ||