![]() | Name | Last modified | Size | Description |
---|---|---|---|---|
![]() | Parent Directory | - | ||
![]() | buildsrc-out.txt | 28-Sep-2023 00:35 | 848 | |
![]() | buildsrc-summary.dcf | 28-Sep-2023 00:35 | 426 | |
![]() | checksrc-out.txt | 28-Sep-2023 00:35 | 5.8K | |
![]() | checksrc-summary.dcf | 28-Sep-2023 00:35 | 432 | |
![]() | install-out.txt | 28-Sep-2023 00:35 | 2.4K | |
![]() | install-summary.dcf | 28-Sep-2023 00:35 | 265 | |