![]() | Name | Last modified | Size | Description |
---|---|---|---|---|
![]() | Parent Directory | - | ||
![]() | buildsrc-out.txt | 26-Sep-2023 00:35 | 877 | |
![]() | buildsrc-summary.dcf | 26-Sep-2023 00:35 | 423 | |
![]() | checksrc-out.txt | 26-Sep-2023 00:35 | 4.3K | |
![]() | checksrc-summary.dcf | 26-Sep-2023 00:35 | 421 | |
![]() | install-out.txt | 26-Sep-2023 00:35 | 966 | |
![]() | install-summary.dcf | 26-Sep-2023 00:35 | 263 | |