Name | Last modified | Size | Description | |
---|---|---|---|---|
Parent Directory | - | |||
buildbin-summary.dcf | 17-Oct-2023 00:35 | 556 | ||
buildbin-out.txt | 17-Oct-2023 00:35 | 1.1K | ||
checksrc-summary.dcf | 17-Oct-2023 00:35 | 474 | ||
checksrc-out.txt | 17-Oct-2023 00:35 | 3.1K | ||
buildsrc-summary.dcf | 17-Oct-2023 00:35 | 479 | ||
buildsrc-out.txt | 17-Oct-2023 00:35 | 874 | ||
install-summary.dcf | 17-Oct-2023 00:35 | 282 | ||
install-out.txt | 17-Oct-2023 00:35 | 1.0K | ||