Name | Last modified | Size | Description | |
---|---|---|---|---|
Parent Directory | - | |||
install-summary.dcf | 17-Oct-2023 00:36 | 283 | ||
buildsrc-summary.dcf | 17-Oct-2023 00:36 | 447 | ||
checksrc-summary.dcf | 17-Oct-2023 00:36 | 471 | ||
buildbin-summary.dcf | 17-Oct-2023 00:36 | 570 | ||
buildsrc-out.txt | 17-Oct-2023 00:36 | 844 | ||
install-out.txt | 17-Oct-2023 00:36 | 1.0K | ||
buildbin-out.txt | 17-Oct-2023 00:36 | 1.2K | ||
checksrc-out.txt | 17-Oct-2023 00:36 | 3.1K | ||