Name | Last modified | Size | Description | |
---|---|---|---|---|
Parent Directory | - | |||
buildbin-out.txt | 17-Oct-2023 00:35 | 6.9K | ||
install-out.txt | 17-Oct-2023 00:35 | 6.7K | ||
checksrc-out.txt | 17-Oct-2023 00:35 | 5.3K | ||
buildsrc-out.txt | 17-Oct-2023 00:35 | 898 | ||
buildbin-summary.dcf | 17-Oct-2023 00:35 | 507 | ||
buildsrc-summary.dcf | 17-Oct-2023 00:35 | 447 | ||
checksrc-summary.dcf | 17-Oct-2023 00:35 | 441 | ||
install-summary.dcf | 17-Oct-2023 00:35 | 266 | ||