Name | Last modified | Size | Description | |
---|---|---|---|---|
Parent Directory | - | |||
buildsrc-out.txt | 17-Oct-2023 00:35 | 863 | ||
buildsrc-summary.dcf | 17-Oct-2023 00:35 | 413 | ||
checksrc-out.txt | 17-Oct-2023 00:35 | 4.9K | ||
checksrc-summary.dcf | 17-Oct-2023 00:35 | 408 | ||
install-out.txt | 17-Oct-2023 00:35 | 6.7K | ||
install-summary.dcf | 17-Oct-2023 00:35 | 256 | ||