Name | Last modified | Size | Description | |
---|---|---|---|---|
Parent Directory | - | |||
buildbin-out.txt | 17-Oct-2023 00:35 | 1.1K | ||
buildbin-summary.dcf | 17-Oct-2023 00:35 | 562 | ||
buildsrc-out.txt | 17-Oct-2023 00:35 | 939 | ||
buildsrc-summary.dcf | 17-Oct-2023 00:35 | 484 | ||
checksrc-out.txt | 17-Oct-2023 00:35 | 4.2K | ||
checksrc-summary.dcf | 17-Oct-2023 00:35 | 478 | ||
install-out.txt | 17-Oct-2023 00:35 | 1.0K | ||
install-summary.dcf | 17-Oct-2023 00:35 | 283 | ||