Index of /checkResults/3.17/bioc-LATEST/annmap/raw-results
Name
Last modified
Size
Description
Parent Directory
-
info.dcf
26-Sep-2023 00:36
287
merida1/
26-Sep-2023 00:36
-
nebbiolo1/
26-Sep-2023 00:35
-