Name | Last modified | Size | Description | |
---|---|---|---|---|
Parent Directory | - | |||
checksrc-out.txt | 17-Oct-2023 00:35 | 2.7K | ||
buildbin-out.txt | 17-Oct-2023 00:35 | 1.1K | ||
install-out.txt | 17-Oct-2023 00:35 | 1.0K | ||
buildsrc-out.txt | 17-Oct-2023 00:35 | 848 | ||
buildbin-summary.dcf | 17-Oct-2023 00:35 | 524 | ||
buildsrc-summary.dcf | 17-Oct-2023 00:35 | 458 | ||
checksrc-summary.dcf | 17-Oct-2023 00:35 | 453 | ||
install-summary.dcf | 17-Oct-2023 00:35 | 271 | ||