Name | Last modified | Size | Description | |
---|---|---|---|---|
Parent Directory | - | |||
install-out.txt | 17-Oct-2023 00:35 | 962 | ||
install-summary.dcf | 17-Oct-2023 00:35 | 270 | ||
buildsrc-out.txt | 17-Oct-2023 00:35 | 829 | ||
buildsrc-summary.dcf | 17-Oct-2023 00:35 | 433 | ||
checksrc-out.txt | 17-Oct-2023 00:35 | 3.2K | ||
checksrc-summary.dcf | 17-Oct-2023 00:35 | 436 | ||