Name | Last modified | Size | Description | |
---|---|---|---|---|
Parent Directory | - | |||
buildbin-summary.dcf | 17-Oct-2023 00:35 | 549 | ||
buildbin-out.txt | 17-Oct-2023 00:35 | 1.1K | ||
checksrc-summary.dcf | 17-Oct-2023 00:35 | 471 | ||
checksrc-out.txt | 17-Oct-2023 00:35 | 3.3K | ||
buildsrc-summary.dcf | 17-Oct-2023 00:35 | 477 | ||
buildsrc-out.txt | 17-Oct-2023 00:35 | 869 | ||
install-summary.dcf | 17-Oct-2023 00:35 | 280 | ||
install-out.txt | 17-Oct-2023 00:35 | 1.0K | ||