Name | Last modified | Size | Description | |
---|---|---|---|---|
Parent Directory | - | |||
install-summary.dcf | 17-Oct-2023 00:35 | 271 | ||
install-out.txt | 17-Oct-2023 00:35 | 970 | ||
checksrc-summary.dcf | 17-Oct-2023 00:35 | 438 | ||
checksrc-out.txt | 17-Oct-2023 00:35 | 3.5K | ||
buildsrc-summary.dcf | 17-Oct-2023 00:35 | 435 | ||
buildsrc-out.txt | 17-Oct-2023 00:35 | 830 | ||