Name | Last modified | Size | Description | |
---|---|---|---|---|
Parent Directory | - | |||
install-summary.dcf | 17-Oct-2023 00:35 | 268 | ||
install-out.txt | 17-Oct-2023 00:35 | 17K | ||
buildsrc-out.txt | 17-Oct-2023 00:35 | 871 | ||
buildsrc-summary.dcf | 17-Oct-2023 00:35 | 453 | ||
checksrc-out.txt | 17-Oct-2023 00:35 | 4.8K | ||
checksrc-summary.dcf | 17-Oct-2023 00:35 | 453 | ||
buildbin-summary.dcf | 17-Oct-2023 00:35 | 514 | ||
buildbin-out.txt | 17-Oct-2023 00:35 | 17K | ||