Name | Last modified | Size | Description | |
---|---|---|---|---|
Parent Directory | - | |||
install-summary.dcf | 17-Oct-2023 00:36 | 269 | ||
install-out.txt | 17-Oct-2023 00:36 | 14K | ||
checksrc-summary.dcf | 17-Oct-2023 00:36 | 444 | ||
checksrc-out.txt | 17-Oct-2023 00:36 | 4.1K | ||
buildsrc-summary.dcf | 17-Oct-2023 00:36 | 428 | ||
buildsrc-out.txt | 17-Oct-2023 00:36 | 846 | ||
buildbin-summary.dcf | 17-Oct-2023 00:36 | 530 | ||
buildbin-out.txt | 17-Oct-2023 00:36 | 17K | ||