Name | Last modified | Size | Description | |
---|---|---|---|---|
Parent Directory | - | |||
buildbin-out.txt | 17-Oct-2023 00:37 | 5.5K | ||
buildbin-summary.dcf | 17-Oct-2023 00:37 | 524 | ||
buildsrc-out.txt | 17-Oct-2023 00:37 | 842 | ||
buildsrc-summary.dcf | 17-Oct-2023 00:37 | 424 | ||
checksrc-out.txt | 17-Oct-2023 00:37 | 5.6K | ||
checksrc-summary.dcf | 17-Oct-2023 00:37 | 446 | ||
install-out.txt | 17-Oct-2023 00:37 | 3.7K | ||
install-summary.dcf | 17-Oct-2023 00:37 | 267 | ||